BEGIN:VCALENDAR
VERSION:2.0
PRODID:-//BPT - ECPv5.14.0.1//NONSGML v1.0//EN
CALSCALE:GREGORIAN
METHOD:PUBLISH
X-WR-CALNAME:BPT
X-ORIGINAL-URL:https://www.bptkerala.in
X-WR-CALDESC:Events for BPT
REFRESH-INTERVAL;VALUE=DURATION:PT1H
X-Robots-Tag:noindex
X-PUBLISHED-TTL:PT1H
BEGIN:VTIMEZONE
TZID:Asia/Kolkata
BEGIN:STANDARD
TZOFFSETFROM:+0530
TZOFFSETTO:+0530
TZNAME:IST
DTSTART:20220101T000000
END:STANDARD
END:VTIMEZONE
BEGIN:VEVENT
DTSTART;TZID=Asia/Kolkata:20260306T103000
DTEND;TZID=Asia/Kolkata:20260306T170000
DTSTAMP:20260421T160525
CREATED:20260310T103846Z
LAST-MODIFIED:20260310T103846Z
UID:109528-1772793000-1772816400@www.bptkerala.in
SUMMARY:PERFORMANCE REVIEW OF PSU's Under Industries and Commerce Department
DESCRIPTION:Gallery
URL:https://www.bptkerala.in/event/performance-review-of-psus-under-industries-and-commerce-department/
LOCATION:The Renai Cochin\, Palarivattom\, 515\, Palarivattom - Edappally Rd\, opposite Metro Pillar No 515\, Sonia Nagar\, Palarivattom\, Kochi\, Ernakulam\, Kerala 682025\, Palarivattom\, 682025\, India
CATEGORIES:Business Meetup
ATTACH;FMTTYPE=image/png:https://www.bptkerala.in/wp-content/uploads/2026/03/Screenshot-2026-03-10-151417.png
END:VEVENT
BEGIN:VEVENT
DTSTART;TZID=Asia/Kolkata:20260107T103000
DTEND;TZID=Asia/Kolkata:20260107T170000
DTSTAMP:20260421T160525
CREATED:20260216T104156Z
LAST-MODIFIED:20260216T104207Z
UID:109136-1767781800-1767805200@www.bptkerala.in
SUMMARY:INTERACTIVE SESSION ON PSU TRANSFORMATION
DESCRIPTION:Gallery
URL:https://www.bptkerala.in/event/interactive-session-on-psu-transformation/
LOCATION:Hotel Residency Tower\, South Gate of Secretariat\, Press Rd\, Statue\, Palayam\, Thiruvananthapuram\, Kerala 695001\, Thiruvananthapuram\, India
CATEGORIES:Business Meetup
ATTACH;FMTTYPE=image/png:https://www.bptkerala.in/wp-content/uploads/2026/02/bpt1.png
END:VEVENT
BEGIN:VEVENT
DTSTART;TZID=Asia/Kolkata:20251105T103000
DTEND;TZID=Asia/Kolkata:20251105T170000
DTSTAMP:20260421T160525
CREATED:20260216T141121Z
LAST-MODIFIED:20260216T141121Z
UID:109246-1762338600-1762362000@www.bptkerala.in
SUMMARY:HALF YEARLY REVIEW 2025-26 & VISION 2031
DESCRIPTION:Gallery
URL:https://www.bptkerala.in/event/half-yearly-review-2025-26-vision-2031/
LOCATION:Hotel Residency Tower\, South Gate of Secretariat\, Press Rd\, Statue\, Palayam\, Thiruvananthapuram\, Kerala 695001\, Thiruvananthapuram\, India
CATEGORIES:Business Meetup
ATTACH;FMTTYPE=image/png:https://www.bptkerala.in/wp-content/uploads/2026/02/bpt2.png
END:VEVENT
BEGIN:VEVENT
DTSTART;TZID=Asia/Kolkata:20250624T100000
DTEND;TZID=Asia/Kolkata:20250624T170000
DTSTAMP:20260421T160525
CREATED:20250701T131957Z
LAST-MODIFIED:20250704T072847Z
UID:40250-1750759200-1750784400@www.bptkerala.in
SUMMARY:Interactive Session for the Chairman and Managing Director of PSUs under the Department of Industries & Commerce
DESCRIPTION:Program Sheet\nGallery
URL:https://www.bptkerala.in/event/interactive-session-for-the-chairman-and-managing-director-of-psus-under-the-department-of-industries-commerce/
LOCATION:The Renai Cochin\, Palarivattom\, 515\, Palarivattom - Edappally Rd\, opposite Metro Pillar No 515\, Sonia Nagar\, Palarivattom\, Kochi\, Ernakulam\, Kerala 682025\, Palarivattom\, 682025\, India
CATEGORIES:Business Meetup
ATTACH;FMTTYPE=image/jpeg:https://www.bptkerala.in/wp-content/uploads/2025/07/png-3.jpg
END:VEVENT
BEGIN:VEVENT
DTSTART;TZID=Asia/Kolkata:20250605T093000
DTEND;TZID=Asia/Kolkata:20250605T170000
DTSTAMP:20260421T160525
CREATED:20250619T100006Z
LAST-MODIFIED:20250704T073811Z
UID:40086-1749115800-1749142800@www.bptkerala.in
SUMMARY:Signing Of Business Plan And Mou Of Psus Under The Department Of Industries And Commerce
DESCRIPTION:Program Sheet\nGallery
URL:https://www.bptkerala.in/event/signing-of-business-plan-and-mou-of-psus-under-the-department-of-industries-and-commerce/
LOCATION:Hycinth Hotels\, Thiruvananthapuram\, Near Manorama Office\, HYCINTH Hotels\, Manorama Rd\, Thampanoor\, Thiruvananthapuram\, Kerala 695001\, THIRUVANANTHAPURAM\, 695001\, India
CATEGORIES:Business Meetup
ATTACH;FMTTYPE=image/jpeg:https://www.bptkerala.in/wp-content/uploads/2025/06/WhatsApp-Image-2025-06-19-at-17.02.39_13efcbd4.jpg
END:VEVENT
BEGIN:VEVENT
DTSTART;TZID=Asia/Kolkata:20241017T093000
DTEND;TZID=Asia/Kolkata:20241017T170000
DTSTAMP:20260421T160525
CREATED:20241017T101957Z
LAST-MODIFIED:20241017T102204Z
UID:39917-1729157400-1729184400@www.bptkerala.in
SUMMARY:Half Yearly Performance Review & Interactive session of PSUs Under the Industries Department
DESCRIPTION:
URL:https://www.bptkerala.in/event/half-yearly-performance-review-interactive-session-of-psus-under-the-industries-department/
LOCATION:Monsoon Empress \, Kochi\, NH Bypass\, Chakkalakkal\, Palarivattom\, Kochi\, Kerala 682025\, Kochi\, 682025\, India
CATEGORIES:Business Meetup
ATTACH;FMTTYPE=image/jpeg:https://www.bptkerala.in/wp-content/uploads/2024/10/WhatsApp-Image-2024-10-17-at-10.08.42_6ae8d683.jpg
END:VEVENT
BEGIN:VEVENT
DTSTART;TZID=Asia/Kolkata:20240615T090000
DTEND;TZID=Asia/Kolkata:20240615T170000
DTSTAMP:20260421T160525
CREATED:20240615T035114Z
LAST-MODIFIED:20240902T081023Z
UID:39410-1718442000-1718470800@www.bptkerala.in
SUMMARY:Deliberations & Signing of MOU and Interactive Session with PSUs under Industries\, Coir & Cashew
DESCRIPTION:Program Sheet\nPhoto Gallery\n\n\n\n 
URL:https://www.bptkerala.in/event/deliberations-signing-of-mou-and-interactive-session-with-psus-under-industries-coir-cashew/
LOCATION:The Renai Cochin\, Palarivattom\, 515\, Palarivattom - Edappally Rd\, opposite Metro Pillar No 515\, Sonia Nagar\, Palarivattom\, Kochi\, Ernakulam\, Kerala 682025\, Palarivattom\, 682025\, India
CATEGORIES:Business Meetup
END:VEVENT
BEGIN:VEVENT
DTSTART;TZID=Asia/Kolkata:20221227T083000
DTEND;TZID=Asia/Kolkata:20221227T173000
DTSTAMP:20260421T160525
CREATED:20221223T071117Z
LAST-MODIFIED:20230124T132611Z
UID:37121-1672129800-1672162200@www.bptkerala.in
SUMMARY:Exploring Business Alliance - B2B 2022
DESCRIPTION:Download Program  Sheet\nLive Telecast\nMedia
URL:https://www.bptkerala.in/event/exploring-business-alliance/
LOCATION:Hotel Marriott\, Kochi
CATEGORIES:Business Meetup
ATTACH;FMTTYPE=image/png:https://www.bptkerala.in/wp-content/uploads/2022/12/Screenshot-2022-12-23-163948.png
END:VEVENT
END:VCALENDAR